BEGIN:VCALENDAR
VERSION:2.0
PRODID:-//Madison Conservation District - ECPv6.15.13//NONSGML v1.0//EN
CALSCALE:GREGORIAN
METHOD:PUBLISH
X-ORIGINAL-URL:https://madisoncd.net
X-WR-CALDESC:Events for Madison Conservation District
REFRESH-INTERVAL;VALUE=DURATION:PT1H
X-Robots-Tag:noindex
X-PUBLISHED-TTL:PT1H
BEGIN:VTIMEZONE
TZID:UTC
BEGIN:STANDARD
TZOFFSETFROM:+0000
TZOFFSETTO:+0000
TZNAME:UTC
DTSTART:20240101T000000
END:STANDARD
END:VTIMEZONE
BEGIN:VEVENT
DTSTART;TZID=UTC:20251104T080000
DTEND;TZID=UTC:20251104T170000
DTSTAMP:20260101T082653
CREATED:20250809T021339Z
LAST-MODIFIED:20250809T021339Z
UID:9929-1762243200-1762275600@madisoncd.net
SUMMARY:310 Permit Application Deadline
DESCRIPTION:
URL:https://madisoncd.net/event/310-permit-application-deadline/2025-11-04/
END:VEVENT
BEGIN:VEVENT
DTSTART;TZID=UTC:20251007T080000
DTEND;TZID=UTC:20251007T170000
DTSTAMP:20260101T082653
CREATED:20250809T021339Z
LAST-MODIFIED:20250809T021339Z
UID:9928-1759824000-1759856400@madisoncd.net
SUMMARY:310 Permit Application Deadline
DESCRIPTION:
URL:https://madisoncd.net/event/310-permit-application-deadline/2025-10-07/
END:VEVENT
BEGIN:VEVENT
DTSTART;TZID=UTC:20250902T080000
DTEND;TZID=UTC:20250902T170000
DTSTAMP:20260101T082653
CREATED:20250809T021339Z
LAST-MODIFIED:20250809T021339Z
UID:9927-1756800000-1756832400@madisoncd.net
SUMMARY:310 Permit Application Deadline
DESCRIPTION:
URL:https://madisoncd.net/event/310-permit-application-deadline/2025-09-02/
END:VEVENT
BEGIN:VEVENT
DTSTART;TZID=UTC:20250805T080000
DTEND;TZID=UTC:20250805T170000
DTSTAMP:20260101T082653
CREATED:20250809T021339Z
LAST-MODIFIED:20250809T021341Z
UID:9925-1754380800-1754413200@madisoncd.net
SUMMARY:310 Permit Application Deadline
DESCRIPTION:
URL:https://madisoncd.net/event/310-permit-application-deadline/2025-08-05/
END:VEVENT
END:VCALENDAR